BEGIN:VCALENDAR
VERSION:2.0
PRODID:-//St Marks Lutheran Church - ECPv4.8.1//NONSGML v1.0//EN
CALSCALE:GREGORIAN
METHOD:PUBLISH
X-WR-CALNAME:St Marks Lutheran Church
X-ORIGINAL-URL:http://stmarksmtbarker.org.au
X-WR-CALDESC:Events for St Marks Lutheran Church
BEGIN:VEVENT
DTSTART;VALUE=DATE:20190203
DTEND;VALUE=DATE:20190204
DTSTAMP:20190227T142210
CREATED:20190201T003439Z
LAST-MODIFIED:20190201T003439Z
UID:5368-1549152000-1549238399@stmarksmtbarker.org.au
SUMMARY:Sunday Worship
DESCRIPTION:8.30am – Traditional with Holy Communion\, 10.30am – Contemporary with Baptism and St Mark’s School Staff Installation \n
URL:http://stmarksmtbarker.org.au/calendar/sunday-worship-22/
LOCATION:St Marks Lutheran Church\, 35 Hampden Rd\, Mount Barker\, SA\, 5251\, Australia
END:VEVENT
BEGIN:VEVENT
DTSTART;VALUE=DATE:20190210
DTEND;VALUE=DATE:20190211
DTSTAMP:20190227T142210
CREATED:20190201T003612Z
LAST-MODIFIED:20190201T003612Z
UID:5370-1549756800-1549843199@stmarksmtbarker.org.au
SUMMARY:Sunday Worship
DESCRIPTION:8.30am – Traditional service\, 10.30am – Contemporary service with Holy Communion and baptism \n
URL:http://stmarksmtbarker.org.au/calendar/sunday-worship-23/
LOCATION:St Marks Lutheran Church\, 35 Hampden Rd\, Mount Barker\, SA\, 5251\, Australia
END:VEVENT
BEGIN:VEVENT
DTSTART;VALUE=DATE:20190217
DTEND;VALUE=DATE:20190218
DTSTAMP:20190227T142210
CREATED:20190201T003829Z
LAST-MODIFIED:20190201T003829Z
UID:5372-1550361600-1550447999@stmarksmtbarker.org.au
SUMMARY:Sunday Worship
DESCRIPTION:8.30am – Traditional service with Holy Communion\, 10.30am – Contemporary service \n
URL:http://stmarksmtbarker.org.au/calendar/sunday-worship-24/
LOCATION:St Marks Lutheran Church\, 35 Hampden Rd\, Mount Barker\, SA\, 5251\, Australia
END:VEVENT
BEGIN:VEVENT
DTSTART;VALUE=DATE:20190224
DTEND;VALUE=DATE:20190225
DTSTAMP:20190227T142210
CREATED:20190201T004048Z
LAST-MODIFIED:20190201T004048Z
UID:5374-1550966400-1551052799@stmarksmtbarker.org.au
SUMMARY:Sunday Worship
DESCRIPTION:8.30am – Traditional service\, 10.30am – Contemporary service Holy Communion and Baptism \n
URL:http://stmarksmtbarker.org.au/calendar/sunday-worship-25/
LOCATION:St Marks Lutheran Church\, 35 Hampden Rd\, Mount Barker\, SA\, 5251\, Australia
END:VEVENT
END:VCALENDAR